BEGIN:VCALENDAR
VERSION:2.0
PRODID:-//Ostara Cannabis - ECPv6.15.17//NONSGML v1.0//EN
CALSCALE:GREGORIAN
METHOD:PUBLISH
X-WR-CALNAME:Ostara Cannabis
X-ORIGINAL-URL:https://ostaracannabis.com
X-WR-CALDESC:Events for Ostara Cannabis
REFRESH-INTERVAL;VALUE=DURATION:PT1H
X-Robots-Tag:noindex
X-PUBLISHED-TTL:PT1H
BEGIN:VTIMEZONE
TZID:America/Chicago
BEGIN:DAYLIGHT
TZOFFSETFROM:-0600
TZOFFSETTO:-0500
TZNAME:CDT
DTSTART:20250309T080000
END:DAYLIGHT
BEGIN:STANDARD
TZOFFSETFROM:-0500
TZOFFSETTO:-0600
TZNAME:CST
DTSTART:20251102T070000
END:STANDARD
BEGIN:DAYLIGHT
TZOFFSETFROM:-0600
TZOFFSETTO:-0500
TZNAME:CDT
DTSTART:20260308T080000
END:DAYLIGHT
BEGIN:STANDARD
TZOFFSETFROM:-0500
TZOFFSETTO:-0600
TZNAME:CST
DTSTART:20261101T070000
END:STANDARD
BEGIN:DAYLIGHT
TZOFFSETFROM:-0600
TZOFFSETTO:-0500
TZNAME:CDT
DTSTART:20270314T080000
END:DAYLIGHT
BEGIN:STANDARD
TZOFFSETFROM:-0500
TZOFFSETTO:-0600
TZNAME:CST
DTSTART:20271107T070000
END:STANDARD
END:VTIMEZONE
BEGIN:VEVENT
DTSTART;TZID=America/Chicago:20260108T110000
DTEND;TZID=America/Chicago:20260108T130000
DTSTAMP:20260423T131208
CREATED:20260102T214513Z
LAST-MODIFIED:20260102T214513Z
UID:2663-1767870000-1767877200@ostaracannabis.com
SUMMARY:Interactive Pop Up at 3Fifteen Primo Cannabis Dispensary on Chippewa
DESCRIPTION:Ostara is rolling into 3Fifteen Primo on Chippewa on Thursday\, January 8 from 11am – 1pm – and we’re bringing tarot magic with us! ✨ \nPick a card\, scan the code\, and discover your Ostara strain destiny! Whether you’re feeling bold or curious\, we’ve got a vape pairing written in the stars! 🌿🔮 \nCome for the reading\, stay for the vibes – and ask us anything about our sun-grown Missouri flower! \n✨ Also\, enjoy 20% off Ostara and Cubano products during the popup!
URL:https://ostaracannabis.com/calendar/interactive-pop-up-at-3fifteen-primo-cannabis-dispensary-on-chippewa/
LOCATION:3Fifteen Primo – Chippewa\, 5501 Chippewa St\, St. Louis\, MO\, 63109
ATTACH;FMTTYPE=image/png:https://ostaracannabis.com/wp-content/uploads/2024/10/2-1.png
ORGANIZER;CN="Brittany Branson":MAILTO:brittany.branson@missourimedicalsales.com
END:VEVENT
BEGIN:VEVENT
DTSTART;TZID=America/Chicago:20260108T140000
DTEND;TZID=America/Chicago:20260108T160000
DTSTAMP:20260423T131208
CREATED:20260102T214620Z
LAST-MODIFIED:20260102T214711Z
UID:2681-1767880800-1767888000@ostaracannabis.com
SUMMARY:Interactive Pop Up at Codes Dispensary in Lake St. Louis
DESCRIPTION:Ostara is rolling into Codes Dispensary in Lake St. Louis on Thursday\, January 8 from 2pm – 4pm – and we’re bringing tarot magic with us! ✨ \nPick a card\, scan the code\, and discover your Ostara strain destiny! Whether you’re feeling bold or curious\, we’ve got a vape pairing written in the stars! 🌿🔮 \nCome for the reading\, stay for the vibes – and ask us anything about our sun-grown Missouri flower! \n✨ Also\, enjoy 20% off Ostara and Cubano products during the popup!
URL:https://ostaracannabis.com/calendar/interactive-pop-up-at-codes-dispensary-in-lake-st-louis/
LOCATION:Codes – Lake St. Louis\, 859 Robert Raymond Dr.\, Lake St. Louis\, MO\, 63367
ATTACH;FMTTYPE=image/png:https://ostaracannabis.com/wp-content/uploads/2024/10/2-1.png
ORGANIZER;CN="Brittany Branson":MAILTO:brittany.branson@missourimedicalsales.com
END:VEVENT
BEGIN:VEVENT
DTSTART;TZID=America/Chicago:20260109T110000
DTEND;TZID=America/Chicago:20260109T130000
DTSTAMP:20260423T131208
CREATED:20260102T214657Z
LAST-MODIFIED:20260102T214835Z
UID:2683-1767956400-1767963600@ostaracannabis.com
SUMMARY:Interactive Pop Up at Good Day Farm at Soulard & Broadway
DESCRIPTION:Ostara is rolling into Good Day Farm at Soulard & Broadway on Friday\, January 9 from 11am – 1pm – and we’re bringing tarot magic with us! ✨ \nPick a card\, scan the code\, and discover your Ostara strain destiny! Whether you’re feeling bold or curious\, we’ve got a vape pairing written in the stars! 🌿🔮 \nCome for the reading\, stay for the vibes – and ask us anything about our sun-grown Missouri flower! \n✨ Also\, enjoy 20% off Ostara and Cubano products during the popup!
URL:https://ostaracannabis.com/calendar/interactive-pop-up-at-good-day-farm-on-soulard/
LOCATION:Good Day Farm – Soulard\, 1531 S Broadway\, St. Louis\, MO\, 63104
ATTACH;FMTTYPE=image/png:https://ostaracannabis.com/wp-content/uploads/2024/10/2-1.png
ORGANIZER;CN="Brittany Branson":MAILTO:brittany.branson@missourimedicalsales.com
END:VEVENT
BEGIN:VEVENT
DTSTART;TZID=America/Chicago:20260109T140000
DTEND;TZID=America/Chicago:20260109T160000
DTSTAMP:20260423T131208
CREATED:20260102T214945Z
LAST-MODIFIED:20260102T214945Z
UID:2688-1767967200-1767974400@ostaracannabis.com
SUMMARY:Interactive Pop Up at Good Day Farm in St. Charles
DESCRIPTION:Ostara is rolling into Good Day Farm in St. Charles on Friday\, January 9 from 2pm – 4pm and we’re bringing tarot magic with us! ✨ \nPick a card\, scan the code\, and discover your Ostara strain destiny! Whether you’re feeling bold or curious\, we’ve got a vape pairing written in the stars! 🌿🔮 \nCome for the reading\, stay for the vibes – and ask us anything about our sun-grown Missouri flower! \n✨ Also\, enjoy 20% off Ostara and Cubano products during the popup!
URL:https://ostaracannabis.com/calendar/interactive-pop-up-at-good-day-farm-in-st-charles/
LOCATION:Good Day Farm – St. Charles\, 301 Little Hills Expy\, St. Charles\, MO\, 63301
ATTACH;FMTTYPE=image/png:https://ostaracannabis.com/wp-content/uploads/2024/10/2-1.png
ORGANIZER;CN="Brittany Branson":MAILTO:brittany.branson@missourimedicalsales.com
END:VEVENT
BEGIN:VEVENT
DTSTART;TZID=America/Chicago:20260122T110000
DTEND;TZID=America/Chicago:20260122T130000
DTSTAMP:20260423T131208
CREATED:20260102T215106Z
LAST-MODIFIED:20260102T215106Z
UID:2690-1769079600-1769086800@ostaracannabis.com
SUMMARY:Interactive Pop Up at Good Day Farm in Ellisville
DESCRIPTION:Ostara is rolling into Good Day Farm in Ellisville on Thursday\, January 22 from 11am – 1pm and we’re bringing tarot magic with us! ✨ \nPick a card\, scan the code\, and discover your Ostara strain destiny! Whether you’re feeling bold or curious\, we’ve got a vape pairing written in the stars! 🌿🔮 \nCome for the reading\, stay for the vibes – and ask us anything about our sun-grown Missouri flower! \n✨ Also\, enjoy 20% off Ostara and Cubano products during the popup!
URL:https://ostaracannabis.com/calendar/interactive-pop-up-at-good-day-farm-in-ellisville/
LOCATION:Good Day Farm – Ellisville\, 16051 Manchester Road\, Ellisville\, MO\, 63011
ATTACH;FMTTYPE=image/png:https://ostaracannabis.com/wp-content/uploads/2024/10/2-1.png
ORGANIZER;CN="Brittany Branson":MAILTO:brittany.branson@missourimedicalsales.com
END:VEVENT
BEGIN:VEVENT
DTSTART;TZID=America/Chicago:20260122T140000
DTEND;TZID=America/Chicago:20260122T160000
DTSTAMP:20260423T131208
CREATED:20260102T215206Z
LAST-MODIFIED:20260102T215206Z
UID:2692-1769090400-1769097600@ostaracannabis.com
SUMMARY:Interactive Pop Up at Good Day Farm in Clayton
DESCRIPTION:Ostara is rolling into Good Day Farm in Clayton on Thursday\, January 22 from 2pm – 4pm and we’re bringing tarot magic with us! ✨ \nPick a card\, scan the code\, and discover your Ostara strain destiny! Whether you’re feeling bold or curious\, we’ve got a vape pairing written in the stars! 🌿🔮 \nCome for the reading\, stay for the vibes – and ask us anything about our sun-grown Missouri flower! \n✨ Also\, enjoy 20% off Ostara and Cubano products during the popup!
URL:https://ostaracannabis.com/calendar/interactive-pop-up-at-good-day-farm-in-clayton/
LOCATION:Good Day Farm – Clayton\, 118 S Hanley Rd\, Clayton\, MO\, 63105
ATTACH;FMTTYPE=image/png:https://ostaracannabis.com/wp-content/uploads/2024/10/2-1.png
ORGANIZER;CN="Brittany Branson":MAILTO:brittany.branson@missourimedicalsales.com
END:VEVENT
BEGIN:VEVENT
DTSTART;TZID=America/Chicago:20260123T110000
DTEND;TZID=America/Chicago:20260123T130000
DTSTAMP:20260423T131208
CREATED:20260102T215324Z
LAST-MODIFIED:20260102T215324Z
UID:2694-1769166000-1769173200@ostaracannabis.com
SUMMARY:Interactive Pop Up at Codes Dispensary in West Alton
DESCRIPTION:Ostara is rolling into Codes in West Alton on Friday\, January 23 from 11am – 1pm and we’re bringing tarot magic with us! ✨ \nPick a card\, scan the code\, and discover your Ostara strain destiny! Whether you’re feeling bold or curious\, we’ve got a vape pairing written in the stars! 🌿🔮 \nCome for the reading\, stay for the vibes – and ask us anything about our sun-grown Missouri flower! \n✨ Also\, enjoy 20% off Ostara and Cubano products during the popup!
URL:https://ostaracannabis.com/calendar/interactive-pop-up-at-codes-dispensary-in-west-alton/
LOCATION:Codes – West Alton\, 124 Richard Dr.\, West Alton\, MO\, 63386
ATTACH;FMTTYPE=image/png:https://ostaracannabis.com/wp-content/uploads/2024/10/2-1.png
ORGANIZER;CN="Brittany Branson":MAILTO:brittany.branson@missourimedicalsales.com
END:VEVENT
BEGIN:VEVENT
DTSTART;TZID=America/Chicago:20260123T140000
DTEND;TZID=America/Chicago:20260123T160000
DTSTAMP:20260423T131208
CREATED:20260102T215418Z
LAST-MODIFIED:20260102T215418Z
UID:2696-1769176800-1769184000@ostaracannabis.com
SUMMARY:Interactive Pop Up at Codes Dispensary in St. Ann
DESCRIPTION:Ostara is rolling into Codes in St. Ann on Friday\, January 23 from 2pm – 4pm and we’re bringing tarot magic with us! ✨ \nPick a card\, scan the code\, and discover your Ostara strain destiny! Whether you’re feeling bold or curious\, we’ve got a vape pairing written in the stars! 🌿🔮 \nCome for the reading\, stay for the vibes – and ask us anything about our sun-grown Missouri flower! \n✨ Also\, enjoy 20% off Ostara and Cubano products during the popup!
URL:https://ostaracannabis.com/calendar/interactive-pop-up-at-codes-dispensary-in-st-ann/
LOCATION:Codes – St. Ann\, 10834 Saint Charles Rock Road\, St. Ann\, MO\, 63074
ATTACH;FMTTYPE=image/png:https://ostaracannabis.com/wp-content/uploads/2024/10/2-1.png
ORGANIZER;CN="Brittany Branson":MAILTO:brittany.branson@missourimedicalsales.com
END:VEVENT
END:VCALENDAR