BEGIN:VCALENDAR
VERSION:2.0
PRODID:-//Ostara Cannabis - ECPv6.15.17//NONSGML v1.0//EN
CALSCALE:GREGORIAN
METHOD:PUBLISH
X-WR-CALNAME:Ostara Cannabis
X-ORIGINAL-URL:https://ostaracannabis.com
X-WR-CALDESC:Events for Ostara Cannabis
REFRESH-INTERVAL;VALUE=DURATION:PT1H
X-Robots-Tag:noindex
X-PUBLISHED-TTL:PT1H
BEGIN:VTIMEZONE
TZID:America/Chicago
BEGIN:DAYLIGHT
TZOFFSETFROM:-0600
TZOFFSETTO:-0500
TZNAME:CDT
DTSTART:20250309T080000
END:DAYLIGHT
BEGIN:STANDARD
TZOFFSETFROM:-0500
TZOFFSETTO:-0600
TZNAME:CST
DTSTART:20251102T070000
END:STANDARD
BEGIN:DAYLIGHT
TZOFFSETFROM:-0600
TZOFFSETTO:-0500
TZNAME:CDT
DTSTART:20260308T080000
END:DAYLIGHT
BEGIN:STANDARD
TZOFFSETFROM:-0500
TZOFFSETTO:-0600
TZNAME:CST
DTSTART:20261101T070000
END:STANDARD
BEGIN:DAYLIGHT
TZOFFSETFROM:-0600
TZOFFSETTO:-0500
TZNAME:CDT
DTSTART:20270314T080000
END:DAYLIGHT
BEGIN:STANDARD
TZOFFSETFROM:-0500
TZOFFSETTO:-0600
TZNAME:CST
DTSTART:20271107T070000
END:STANDARD
END:VTIMEZONE
BEGIN:VEVENT
DTSTART;TZID=America/Chicago:20260320T090000
DTEND;TZID=America/Chicago:20260320T110000
DTSTAMP:20260423T160731
CREATED:20260316T164101Z
LAST-MODIFIED:20260316T171035Z
UID:3000-1773997200-1774004400@ostaracannabis.com
SUMMARY:Spring Equinox Tarot Deck Launch Popup at Root 66 Dogtown
DESCRIPTION:Join us at Root 66 in Dogtown on Friday\, March 20 – the Spring Equinox!! – from 9am – 11am to celebrate the official launch of the Ostara Tarot Deck! \nTo mark the release\, Ostara brand ambassador Brittany will be hosting a special in store pop up where customers can experience the deck for the very first time. \nThe Ostara Tarot Deck pairs each Major Arcana tarot card with an Ostara vape strain\, creating a unique way to explore cannabis through symbolism\, ritual\, and personal experience! \nDuring the pop up you can:\n• See and interact with the Ostara Tarot Deck• Learn how the cards connect to different strains and effects• Pull a card and explore the concept behind the deck• Chat with Brittany and ask questions about the project \nWhether you love tarot\, cannabis\, or simply want to check out something new\, this launch day pop up is a fun way to celebrate the first day of spring with us! \nStop by\, say hello\, and be among the first to experience the Ostara Cannabis Tarot Deck!! \n2026-03-20 Root 66 Dogtown 9am-11am
URL:https://ostaracannabis.com/calendar/spring-equinox-tarot-deck-launch-popup-at-root-66-dogtown/
LOCATION:Root 66 – Dogtown\, 6660 Manchester Rd\, St. Louis\, MO\, 63139
ATTACH;FMTTYPE=image/png:https://ostaracannabis.com/wp-content/uploads/2024/10/2-1.png
ORGANIZER;CN="Brittany Branson":MAILTO:brittany.branson@missourimedicalsales.com
END:VEVENT
BEGIN:VEVENT
DTSTART;TZID=America/Chicago:20260320T120000
DTEND;TZID=America/Chicago:20260320T140000
DTSTAMP:20260423T160731
CREATED:20260316T164241Z
LAST-MODIFIED:20260316T170916Z
UID:3002-1774008000-1774015200@ostaracannabis.com
SUMMARY:Spring Equinox Tarot Deck Launch Popup at Root 66 Wentzville
DESCRIPTION:Join us at Root 66 in Wentzville on Friday\, March 20 – the Spring Equinox!! – from 12pm- 2pm to celebrate the official launch of the Ostara Tarot Deck! \nTo mark the release\, Ostara brand ambassador Brittany will be hosting a special in store pop up where customers can experience the deck for the very first time. \nThe Ostara Tarot Deck pairs each Major Arcana tarot card with an Ostara vape strain\, creating a unique way to explore cannabis through symbolism\, ritual\, and personal experience! \nDuring the pop up you can:\n• See and interact with the Ostara Tarot Deck• Learn how the cards connect to different strains and effects• Pull a card and explore the concept behind the deck• Chat with Brittany and ask questions about the project \nWhether you love tarot\, cannabis\, or simply want to check out something new\, this launch day pop up is a fun way to celebrate the first day of spring with us! \nStop by\, say hello\, and be among the first to experience the Ostara Cannabis Tarot Deck!! \n2026-03-20 Root 66 Wentzville 2pm-4pm
URL:https://ostaracannabis.com/calendar/spring-equinox-tarot-deck-launch-popup-at-root-66-wentzville/
LOCATION:Root 66 – Wentzville\, 1163 Wentzville Parkway\, Wentzville\, MO\, 63385
ATTACH;FMTTYPE=image/png:https://ostaracannabis.com/wp-content/uploads/2024/10/2-1.png
ORGANIZER;CN="Brittany Branson":MAILTO:brittany.branson@missourimedicalsales.com
END:VEVENT
BEGIN:VEVENT
DTSTART;TZID=America/Chicago:20260320T143000
DTEND;TZID=America/Chicago:20260320T163000
DTSTAMP:20260423T160731
CREATED:20260316T164422Z
LAST-MODIFIED:20260316T170958Z
UID:3004-1774017000-1774024200@ostaracannabis.com
SUMMARY:Spring Equinox Tarot Deck Launch Popup at Root 66 St. Peters
DESCRIPTION:Join us at Root 66 in St. Peters on Friday\, March 20 – the Spring Equinox!! – from 2:30pm – 4:30pm to celebrate the official launch of the Ostara Tarot Deck! \nTo mark the release\, Ostara brand ambassador Brittany will be hosting a special in store pop up where customers can experience the deck for the very first time. \nThe Ostara Tarot Deck pairs each Major Arcana tarot card with an Ostara vape strain\, creating a unique way to explore cannabis through symbolism\, ritual\, and personal experience! \nDuring the pop up you can:\n• See and interact with the Ostara Tarot Deck• Learn how the cards connect to different strains and effects• Pull a card and explore the concept behind the deck• Chat with Brittany and ask questions about the project \nWhether you love tarot\, cannabis\, or simply want to check out something new\, this launch day pop up is a fun way to celebrate the first day of spring with us! \nStop by\, say hello\, and be among the first to experience the Ostara Cannabis Tarot Deck!! \n2026-03-20 Root 66 St. Peters – Ostara 2:30pm – 4:30pm
URL:https://ostaracannabis.com/calendar/spring-equinox-tarot-deck-launch-popup-at-root-66-st-peters/
LOCATION:Root 66 – St. Peters\, 3004 S St. Peters Pkwy\, St. Charles\, MO\, 63303
ATTACH;FMTTYPE=image/png:https://ostaracannabis.com/wp-content/uploads/2024/10/2-1.png
ORGANIZER;CN="Brittany Branson":MAILTO:brittany.branson@missourimedicalsales.com
END:VEVENT
BEGIN:VEVENT
DTSTART;TZID=America/Chicago:20260325T140000
DTEND;TZID=America/Chicago:20260325T160000
DTSTAMP:20260423T160731
CREATED:20260302T192240Z
LAST-MODIFIED:20260302T193724Z
UID:2964-1774447200-1774454400@ostaracannabis.com
SUMMARY:Interactive Pop Up at High Profile in Chesterfield
DESCRIPTION:Ostara is rolling into High Profile in Chesterfield on Wednesday\, March 25 from 2pm – 4pm for an afternoon of brand education\, strain discovery\, and tarot magic! ✨ \nWe’ll be on-site sharing more about our sun-grown Missouri flower\, our intentional product lineup\, and how to find the right Ostara experience for your goals! Whether that’s focus\, balance\, rest\, or something in between\, we’ve got you covered! \n✨If you’re feeling extra adventurous\, pick an Ostara Cannabis Tarot Card\, scan the QR code at the table\, and discover your Ostara strain destiny! Whether you’re feeling bold or curious\, we’ve got a vape pairing written in the stars. 🌿🔮 \nAnd if you’re looking for something a little more refined and terpene-rich\, be sure to ask about our sister brand\, Cubano Cannabis\, known for its premium indoor flower and elevated experience. \nOstara Cannabis Popup at High Profile Chesterfield
URL:https://ostaracannabis.com/calendar/interactive-pop-up-at-high-profile-in-chesterfield/
LOCATION:High Profile – Chesterfield\, 42 Arnage Road\, Chesterfield\, MO\, 63005
ATTACH;FMTTYPE=image/png:https://ostaracannabis.com/wp-content/uploads/2024/10/2-1.png
ORGANIZER;CN="Brittany Branson":MAILTO:brittany.branson@missourimedicalsales.com
END:VEVENT
BEGIN:VEVENT
DTSTART;TZID=America/Chicago:20260326T140000
DTEND;TZID=America/Chicago:20260326T160000
DTSTAMP:20260423T160731
CREATED:20260316T164627Z
LAST-MODIFIED:20260316T170835Z
UID:3006-1774533600-1774540800@ostaracannabis.com
SUMMARY:Interactive Pop Up at SWADE Dispensary in Warrensburg
DESCRIPTION:Ostara is rolling into SWADE in Warrensburg on Thursday\, March 26 from 2pm – 4pm for an afternoon of brand education\, strain discovery\, and tarot magic! ✨ \nWe’ll be on-site sharing more about our sun-grown Missouri flower\, our intentional product lineup\, and how to find the right Ostara experience for your goals! Whether that’s focus\, balance\, rest\, or something in between\, we’ve got you covered! \n✨If you’re feeling extra adventurous\, pick an Ostara Cannabis Tarot Card\, scan the QR code at the table\, and discover your Ostara strain destiny! Whether you’re feeling bold or curious\, we’ve got a vape pairing written in the stars. 🌿🔮 \nAnd if you’re looking for something a little more refined and terpene-rich\, be sure to ask about our sister brand\, Cubano Cannabis\, known for its premium indoor flower and elevated experience. \n2026-03-26 SWADE Warrensburg 2pm-4pm
URL:https://ostaracannabis.com/calendar/interactive-pop-up-at-swade-dispensary-in-warrensburg/
LOCATION:SWADE – Warrenburg\, 219 W Young Avenue\, Warrensburg\, MO\, 64093
ATTACH;FMTTYPE=image/png:https://ostaracannabis.com/wp-content/uploads/2024/10/2-1.png
ORGANIZER;CN="Brittany Branson":MAILTO:brittany.branson@missourimedicalsales.com
END:VEVENT
BEGIN:VEVENT
DTSTART;TZID=America/Chicago:20260401T140000
DTEND;TZID=America/Chicago:20260401T160000
DTSTAMP:20260423T160731
CREATED:20260302T193420Z
LAST-MODIFIED:20260302T193420Z
UID:2969-1775052000-1775059200@ostaracannabis.com
SUMMARY:Interactive Pop Up at High Profile in St Louis
DESCRIPTION:Ostara is rolling into High Profile in St. Louis (Sunset Hills) on Wednesday\, April 1 from 2pm – 4pm for an afternoon of brand education\, strain discovery\, and tarot magic! ✨ \nWe’ll be on-site sharing more about our sun-grown Missouri flower\, our intentional product lineup\, and how to find the right Ostara experience for your goals! Whether that’s focus\, balance\, rest\, or something in between\, we’ve got you covered! \n✨If you’re feeling extra adventurous\, pick an Ostara Cannabis Tarot Card\, scan the QR code at the table\, and discover your Ostara strain destiny! Whether you’re feeling bold or curious\, we’ve got a vape pairing written in the stars. 🌿🔮 \nAnd if you’re looking for something a little more refined and terpene-rich\, be sure to ask about our sister brand\, Cubano Cannabis\, known for its premium indoor flower and elevated experience. \nOstara Cannabis Popup at High Profile STL
URL:https://ostaracannabis.com/calendar/interactive-pop-up-at-high-profile-in-st-louis/
LOCATION:High Profile – Sunset Hills\, 10425 Watson Road\, St. Louis\, MO\, 63127
ATTACH;FMTTYPE=image/png:https://ostaracannabis.com/wp-content/uploads/2024/10/2-1.png
ORGANIZER;CN="Brittany Branson":MAILTO:brittany.branson@missourimedicalsales.com
END:VEVENT
END:VCALENDAR