BEGIN:VCALENDAR
VERSION:2.0
PRODID:-//Ostara Cannabis - ECPv6.15.17//NONSGML v1.0//EN
CALSCALE:GREGORIAN
METHOD:PUBLISH
X-WR-CALNAME:Ostara Cannabis
X-ORIGINAL-URL:https://ostaracannabis.com
X-WR-CALDESC:Events for Ostara Cannabis
REFRESH-INTERVAL;VALUE=DURATION:PT1H
X-Robots-Tag:noindex
X-PUBLISHED-TTL:PT1H
BEGIN:VTIMEZONE
TZID:America/Chicago
BEGIN:DAYLIGHT
TZOFFSETFROM:-0600
TZOFFSETTO:-0500
TZNAME:CDT
DTSTART:20250309T080000
END:DAYLIGHT
BEGIN:STANDARD
TZOFFSETFROM:-0500
TZOFFSETTO:-0600
TZNAME:CST
DTSTART:20251102T070000
END:STANDARD
BEGIN:DAYLIGHT
TZOFFSETFROM:-0600
TZOFFSETTO:-0500
TZNAME:CDT
DTSTART:20260308T080000
END:DAYLIGHT
BEGIN:STANDARD
TZOFFSETFROM:-0500
TZOFFSETTO:-0600
TZNAME:CST
DTSTART:20261101T070000
END:STANDARD
BEGIN:DAYLIGHT
TZOFFSETFROM:-0600
TZOFFSETTO:-0500
TZNAME:CDT
DTSTART:20270314T080000
END:DAYLIGHT
BEGIN:STANDARD
TZOFFSETFROM:-0500
TZOFFSETTO:-0600
TZNAME:CST
DTSTART:20271107T070000
END:STANDARD
END:VTIMEZONE
BEGIN:VEVENT
DTSTART;TZID=America/Chicago:20260311T140000
DTEND;TZID=America/Chicago:20260311T160000
DTSTAMP:20260423T114324
CREATED:20260302T191506Z
LAST-MODIFIED:20260302T193954Z
UID:2958-1773237600-1773244800@ostaracannabis.com
SUMMARY:Interactive Pop Up at High Profile in St. Charles
DESCRIPTION:Ostara is rolling into High Profile in St. Charles on Wednesday\, March 11 from 2pm – 4pm for an afternoon of brand education\, strain discovery\, and tarot magic! ✨ \nWe’ll be on-site sharing more about our sun-grown Missouri flower\, our intentional product lineup\, and how to find the right Ostara experience for your goals! Whether that’s focus\, balance\, rest\, or something in between\, we’ve got you covered! \n✨Feeling extra adventurous!? Pick an Ostara Cannabis Tarot Card\, scan the QR code at the table\, and discover your Ostara strain destiny! Whether you’re feeling bold or curious\, we’ve got a vape pairing written in the stars. 🌿🔮 \nAnd if you’re looking for something a little more refined and terpene-rich\, be sure to ask about our sister brand\, Cubano Cannabis\, known for its premium indoor flower and elevated experience. \nOstara Cannabis Popup at High Profile St. Charles
URL:https://ostaracannabis.com/calendar/interactive-pop-up-at-codes-dispensary-in-st-ann-2/
LOCATION:High Profile – St. Charles\, 1416 Harvestowne Industrial Drive\, St. Charles\, MO\, 63304\, United States
ATTACH;FMTTYPE=image/png:https://ostaracannabis.com/wp-content/uploads/2024/10/2-1.png
ORGANIZER;CN="Brittany Branson":MAILTO:brittany.branson@missourimedicalsales.com
END:VEVENT
END:VCALENDAR